Package: GenVisR Version: 1.38.0 Command: rm -rf GenVisR.buildbin-libdir && mkdir GenVisR.buildbin-libdir && F:\biocbuild\bbs-3.20-bioc\R\bin\R.exe CMD INSTALL --build --library=GenVisR.buildbin-libdir GenVisR_1.38.0.tar.gz StartedAt: 2025-02-11 08:32:45 -0500 (Tue, 11 Feb 2025) EndedAt: 2025-02-11 08:34:49 -0500 (Tue, 11 Feb 2025) EllapsedTime: 124.0 seconds RetCode: 0 Status: OK PackageFile: GenVisR_1.38.0.zip PackageFileSize: 2.451 MiB