Package: GenVisR Version: 1.38.0 Command: /home/biocbuild/R/R/bin/R CMD check --install=check:GenVisR.install-out.txt --library=/home/biocbuild/R/R/site-library --no-vignettes --timings GenVisR_1.38.0.tar.gz StartedAt: 2025-02-11 06:35:24 -0000 (Tue, 11 Feb 2025) EndedAt: 2025-02-11 06:45:36 -0000 (Tue, 11 Feb 2025) EllapsedTime: 611.4 seconds RetCode: 0 Status: OK CheckDir: GenVisR.Rcheck Warnings: 0