Package: GeneBreak Version: 1.36.0 Command: rm -rf GeneBreak.buildbin-libdir && mkdir GeneBreak.buildbin-libdir && /Users/biocbuild/BBS/utils/build-universal.sh GeneBreak_1.36.0.tar.gz /Library/Frameworks/R.framework/Resources/bin/R GeneBreak.buildbin-libdir StartedAt: 2024-11-20 04:28:00 -0500 (Wed, 20 Nov 2024) EndedAt: 2024-11-20 04:28:28 -0500 (Wed, 20 Nov 2024) EllapsedTime: 27.5 seconds RetCode: 0 Status: OK PackageFile: GeneBreak_1.36.0.tgz PackageFileSize: 4.569 MiB