Package: GeneBreak Version: 1.36.0 Command: rm -rf GeneBreak.buildbin-libdir && mkdir GeneBreak.buildbin-libdir && /Users/biocbuild/BBS/utils/build-universal.sh GeneBreak_1.36.0.tar.gz /Library/Frameworks/R.framework/Resources/bin/R GeneBreak.buildbin-libdir StartedAt: 2025-02-04 12:59:55 -0500 (Tue, 04 Feb 2025) EndedAt: 2025-02-04 13:00:38 -0500 (Tue, 04 Feb 2025) EllapsedTime: 43.3 seconds RetCode: 0 Status: OK PackageFile: GeneBreak_1.36.0.tgz PackageFileSize: 4.573 MiB