Package: GeneBreak Version: 1.36.0 Command: /home/biocbuild/R/R/bin/R CMD INSTALL GeneBreak StartedAt: 2025-02-10 20:35:53 -0000 (Mon, 10 Feb 2025) EndedAt: 2025-02-10 20:36:16 -0000 (Mon, 10 Feb 2025) EllapsedTime: 23.1 seconds RetCode: 0 Status: OK