Package: GeneExpressionSignature Version: 1.52.0 Command: rm -rf GeneExpressionSignature.buildbin-libdir && mkdir GeneExpressionSignature.buildbin-libdir && /Users/biocbuild/BBS/utils/build-universal.sh GeneExpressionSignature_1.52.0.tar.gz /Library/Frameworks/R.framework/Resources/bin/R GeneExpressionSignature.buildbin-libdir StartedAt: 2025-02-12 15:11:19 -0500 (Wed, 12 Feb 2025) EndedAt: 2025-02-12 15:11:25 -0500 (Wed, 12 Feb 2025) EllapsedTime: 5.7 seconds RetCode: 0 Status: OK PackageFile: GeneExpressionSignature_1.52.0.tgz PackageFileSize: 2.526 MiB