Package: GeneExpressionSignature Version: 1.52.0 Command: /Library/Frameworks/R.framework/Resources/bin/R CMD INSTALL GeneExpressionSignature StartedAt: 2025-02-03 15:19:38 -0500 (Mon, 03 Feb 2025) EndedAt: 2025-02-03 15:19:42 -0500 (Mon, 03 Feb 2025) EllapsedTime: 3.7 seconds RetCode: 0 Status: OK