Package: GeneExpressionSignature Version: 1.52.0 Command: F:\biocbuild\bbs-3.20-bioc\R\bin\R.exe CMD INSTALL GeneExpressionSignature StartedAt: 2025-02-10 15:33:04 -0500 (Mon, 10 Feb 2025) EndedAt: 2025-02-10 15:36:40 -0500 (Mon, 10 Feb 2025) EllapsedTime: 215.5 seconds RetCode: 0 Status: OK