Package: GeneExpressionSignature Version: 1.52.0 Command: /home/biocbuild/R/R/bin/R CMD build --keep-empty-dirs --no-resave-data GeneExpressionSignature StartedAt: 2025-02-03 23:46:28 -0000 (Mon, 03 Feb 2025) EndedAt: 2025-02-03 23:47:08 -0000 (Mon, 03 Feb 2025) EllapsedTime: 40.0 seconds RetCode: 0 Status: OK PackageFile: GeneExpressionSignature_1.52.0.tar.gz PackageFileSize: 2.572 MiB