Package: GeneExpressionSignature Version: 1.52.0 Command: /home/biocbuild/R/R/bin/R CMD check --install=check:GeneExpressionSignature.install-out.txt --library=/home/biocbuild/R/R/site-library --no-vignettes --timings GeneExpressionSignature_1.52.0.tar.gz StartedAt: 2025-02-04 07:14:29 -0000 (Tue, 04 Feb 2025) EndedAt: 2025-02-04 07:15:20 -0000 (Tue, 04 Feb 2025) EllapsedTime: 51.0 seconds RetCode: 0 Status: OK CheckDir: GeneExpressionSignature.Rcheck Warnings: 0