Package: GeneGeneInteR Version: 1.32.0 Command: rm -rf GeneGeneInteR.buildbin-libdir && mkdir GeneGeneInteR.buildbin-libdir && /Users/biocbuild/BBS/utils/build-universal.sh GeneGeneInteR_1.32.0.tar.gz /Library/Frameworks/R.framework/Resources/bin/R GeneGeneInteR.buildbin-libdir StartedAt: 2025-02-05 15:57:48 -0500 (Wed, 05 Feb 2025) EndedAt: 2025-02-05 15:58:20 -0500 (Wed, 05 Feb 2025) EllapsedTime: 31.8 seconds RetCode: 0 Status: OK PackageFile: GeneGeneInteR_1.32.0.tgz PackageFileSize: 1.369 MiB