Package: GeneGeneInteR Version: 1.32.0 Command: rm -rf GeneGeneInteR.buildbin-libdir && mkdir GeneGeneInteR.buildbin-libdir && /Users/biocbuild/BBS/utils/build-universal.sh GeneGeneInteR_1.32.0.tar.gz /Library/Frameworks/R.framework/Resources/bin/R GeneGeneInteR.buildbin-libdir StartedAt: 2025-02-04 13:00:03 -0500 (Tue, 04 Feb 2025) EndedAt: 2025-02-04 13:01:18 -0500 (Tue, 04 Feb 2025) EllapsedTime: 75.1 seconds RetCode: 0 Status: OK PackageFile: GeneGeneInteR_1.32.0.tgz PackageFileSize: 1.37 MiB