Package: GeneGeneInteR Version: 1.32.0 Command: /Library/Frameworks/R.framework/Resources/bin/R CMD build --keep-empty-dirs --no-resave-data GeneGeneInteR StartedAt: 2025-02-03 19:07:01 -0500 (Mon, 03 Feb 2025) EndedAt: 2025-02-03 19:08:19 -0500 (Mon, 03 Feb 2025) EllapsedTime: 77.6 seconds RetCode: 0 Status: OK PackageFile: GeneGeneInteR_1.32.0.tar.gz PackageFileSize: 1.275 MiB