Package: GeneGeneInteR Version: 1.32.0 Command: /home/biocbuild/bbs-3.20-bioc/R/bin/R CMD build --keep-empty-dirs --no-resave-data --md5 GeneGeneInteR StartedAt: 2025-02-03 17:31:25 -0500 (Mon, 03 Feb 2025) EndedAt: 2025-02-03 17:31:55 -0500 (Mon, 03 Feb 2025) EllapsedTime: 30.1 seconds RetCode: 0 Status: OK PackageFile: GeneGeneInteR_1.32.0.tar.gz PackageFileSize: 1.278 MiB