Package: GeneGeneInteR Version: 1.32.0 Command: /home/biocbuild/bbs-3.20-bioc/R/bin/R CMD INSTALL GeneGeneInteR StartedAt: 2025-02-03 15:58:56 -0500 (Mon, 03 Feb 2025) EndedAt: 2025-02-03 15:59:25 -0500 (Mon, 03 Feb 2025) EllapsedTime: 28.1 seconds RetCode: 0 Status: OK