Package: GeneGeneInteR Version: 1.32.0 Command: /home/biocbuild/R/R/bin/R CMD build --keep-empty-dirs --no-resave-data GeneGeneInteR StartedAt: 2025-01-30 23:46:45 -0000 (Thu, 30 Jan 2025) EndedAt: 2025-01-30 23:47:20 -0000 (Thu, 30 Jan 2025) EllapsedTime: 35.0 seconds RetCode: 0 Status: OK PackageFile: GeneGeneInteR_1.32.0.tar.gz PackageFileSize: 1.253 MiB