Package: GeneGeneInteR Version: 1.32.0 Command: /home/biocbuild/R/R/bin/R CMD INSTALL GeneGeneInteR StartedAt: 2025-01-30 20:58:00 -0000 (Thu, 30 Jan 2025) EndedAt: 2025-01-30 20:58:30 -0000 (Thu, 30 Jan 2025) EllapsedTime: 30.4 seconds RetCode: 0 Status: OK