Package: GeneMeta Version: 1.78.0 Command: rm -rf GeneMeta.buildbin-libdir && mkdir GeneMeta.buildbin-libdir && /Users/biocbuild/BBS/utils/build-universal.sh GeneMeta_1.78.0.tar.gz /Library/Frameworks/R.framework/Resources/bin/R GeneMeta.buildbin-libdir StartedAt: 2024-11-09 16:50:41 -0500 (Sat, 09 Nov 2024) EndedAt: 2024-11-09 16:50:48 -0500 (Sat, 09 Nov 2024) EllapsedTime: 7.1 seconds RetCode: 0 Status: OK PackageFile: GeneMeta_1.78.0.tgz PackageFileSize: 2.739 MiB