Package: GeneMeta Version: 1.78.0 Command: chmod a+r GeneMeta -R && F:\biocbuild\bbs-3.20-bioc\R\bin\R.exe CMD build --keep-empty-dirs --no-resave-data GeneMeta StartedAt: 2025-02-03 19:21:41 -0500 (Mon, 03 Feb 2025) EndedAt: 2025-02-03 19:22:23 -0500 (Mon, 03 Feb 2025) EllapsedTime: 41.6 seconds RetCode: 0 Status: OK PackageFile: GeneMeta_1.78.0.tar.gz PackageFileSize: 2.612 MiB