Package: GeneNetworkBuilder Version: 1.48.0 Command: rm -rf GeneNetworkBuilder.buildbin-libdir && mkdir GeneNetworkBuilder.buildbin-libdir && /Users/biocbuild/BBS/utils/build-universal.sh GeneNetworkBuilder_1.48.0.tar.gz /Library/Frameworks/R.framework/Resources/bin/R GeneNetworkBuilder.buildbin-libdir StartedAt: 2025-02-11 13:18:22 -0500 (Tue, 11 Feb 2025) EndedAt: 2025-02-11 13:19:32 -0500 (Tue, 11 Feb 2025) EllapsedTime: 69.9 seconds RetCode: 0 Status: OK PackageFile: GeneNetworkBuilder_1.48.0.tgz PackageFileSize: 7.694 MiB