Package: GeneNetworkBuilder Version: 1.48.0 Command: /home/biocbuild/bbs-3.20-bioc/R/bin/R CMD build --keep-empty-dirs --no-resave-data --md5 GeneNetworkBuilder StartedAt: 2025-01-30 17:22:02 -0500 (Thu, 30 Jan 2025) EndedAt: 2025-01-30 17:31:41 -0500 (Thu, 30 Jan 2025) EllapsedTime: 578.7 seconds RetCode: 0 Status: OK PackageFile: GeneNetworkBuilder_1.48.0.tar.gz PackageFileSize: 7.378 MiB