Package: GeneNetworkBuilder Version: 1.48.0 Command: rm -rf GeneNetworkBuilder.buildbin-libdir && mkdir GeneNetworkBuilder.buildbin-libdir && F:\biocbuild\bbs-3.20-bioc\R\bin\R.exe CMD INSTALL --build --library=GeneNetworkBuilder.buildbin-libdir GeneNetworkBuilder_1.48.0.tar.gz StartedAt: 2025-02-04 08:33:23 -0500 (Tue, 04 Feb 2025) EndedAt: 2025-02-04 08:35:08 -0500 (Tue, 04 Feb 2025) EllapsedTime: 104.9 seconds RetCode: 0 Status: OK PackageFile: GeneNetworkBuilder_1.48.0.zip PackageFileSize: 7.473 MiB