Package: GeneNetworkBuilder Version: 1.48.0 Command: chmod a+r GeneNetworkBuilder -R && F:\biocbuild\bbs-3.20-bioc\R\bin\R.exe CMD build --keep-empty-dirs --no-resave-data GeneNetworkBuilder StartedAt: 2025-01-30 19:06:21 -0500 (Thu, 30 Jan 2025) EndedAt: 2025-01-30 19:13:02 -0500 (Thu, 30 Jan 2025) EllapsedTime: 400.5 seconds RetCode: 0 Status: OK PackageFile: GeneNetworkBuilder_1.48.0.tar.gz PackageFileSize: 7.275 MiB