Package: GeneNetworkBuilder Version: 1.48.0 Command: /home/biocbuild/R/R/bin/R CMD INSTALL GeneNetworkBuilder StartedAt: 2025-02-03 21:03:06 -0000 (Mon, 03 Feb 2025) EndedAt: 2025-02-03 21:03:29 -0000 (Mon, 03 Feb 2025) EllapsedTime: 22.8 seconds RetCode: 0 Status: OK