Package: GeneNetworkBuilder Version: 1.48.0 Command: /home/biocbuild/bbs-3.20-bioc/R/bin/R CMD build --keep-empty-dirs --no-resave-data GeneNetworkBuilder StartedAt: 2024-11-19 19:05:04 -0500 (Tue, 19 Nov 2024) EndedAt: 2024-11-19 19:13:23 -0500 (Tue, 19 Nov 2024) EllapsedTime: 499.1 seconds RetCode: 0 Status: OK PackageFile: GeneNetworkBuilder_1.48.0.tar.gz PackageFileSize: 7.376 MiB