Package: GeneRegionScan Version: 1.62.0 Command: rm -rf GeneRegionScan.buildbin-libdir && mkdir GeneRegionScan.buildbin-libdir && /Users/biocbuild/BBS/utils/build-universal.sh GeneRegionScan_1.62.0.tar.gz /Library/Frameworks/R.framework/Resources/bin/R GeneRegionScan.buildbin-libdir StartedAt: 2025-02-05 15:58:19 -0500 (Wed, 05 Feb 2025) EndedAt: 2025-02-05 15:58:39 -0500 (Wed, 05 Feb 2025) EllapsedTime: 20.4 seconds RetCode: 0 Status: OK PackageFile: GeneRegionScan_1.62.0.tgz PackageFileSize: 7.681 MiB