Package: GeneRegionScan Version: 1.62.0 Command: /Library/Frameworks/R.framework/Resources/bin/R CMD INSTALL GeneRegionScan StartedAt: 2025-02-03 15:31:58 -0500 (Mon, 03 Feb 2025) EndedAt: 2025-02-03 15:32:06 -0500 (Mon, 03 Feb 2025) EllapsedTime: 8.4 seconds RetCode: 0 Status: OK