Package: GeneRegionScan Version: 1.62.0 Command: rm -rf GeneRegionScan.buildbin-libdir && mkdir GeneRegionScan.buildbin-libdir && /Users/biocbuild/BBS/utils/build-universal.sh GeneRegionScan_1.62.0.tar.gz /Library/Frameworks/R.framework/Resources/bin/R GeneRegionScan.buildbin-libdir StartedAt: 2025-02-11 13:18:34 -0500 (Tue, 11 Feb 2025) EndedAt: 2025-02-11 13:19:34 -0500 (Tue, 11 Feb 2025) EllapsedTime: 59.7 seconds RetCode: 0 Status: OK PackageFile: GeneRegionScan_1.62.0.tgz PackageFileSize: 7.681 MiB