Package: GeneRegionScan Version: 1.62.0 Command: /Library/Frameworks/R.framework/Resources/bin/R CMD build --keep-empty-dirs --no-resave-data GeneRegionScan StartedAt: 2025-02-03 19:07:59 -0500 (Mon, 03 Feb 2025) EndedAt: 2025-02-03 19:09:20 -0500 (Mon, 03 Feb 2025) EllapsedTime: 81.0 seconds RetCode: 0 Status: OK PackageFile: GeneRegionScan_1.62.0.tar.gz PackageFileSize: 7.482 MiB