Package: GeneRegionScan Version: 1.62.0 Command: /Library/Frameworks/R.framework/Resources/bin/R CMD INSTALL GeneRegionScan StartedAt: 2025-02-03 15:27:00 -0500 (Mon, 03 Feb 2025) EndedAt: 2025-02-03 15:27:32 -0500 (Mon, 03 Feb 2025) EllapsedTime: 32.5 seconds RetCode: 0 Status: OK