Package: GeneRegionScan Version: 1.62.0 Command: rm -rf GeneRegionScan.buildbin-libdir && mkdir GeneRegionScan.buildbin-libdir && F:\biocbuild\bbs-3.20-bioc\R\bin\R.exe CMD INSTALL --build --library=GeneRegionScan.buildbin-libdir GeneRegionScan_1.62.0.tar.gz StartedAt: 2025-02-04 08:33:46 -0500 (Tue, 04 Feb 2025) EndedAt: 2025-02-04 08:34:42 -0500 (Tue, 04 Feb 2025) EllapsedTime: 56.4 seconds RetCode: 0 Status: OK PackageFile: GeneRegionScan_1.62.0.zip PackageFileSize: 7.57 MiB