Package: GeneRegionScan Version: 1.62.0 Command: chmod a+r GeneRegionScan -R && F:\biocbuild\bbs-3.20-bioc\R\bin\R.exe CMD build --keep-empty-dirs --no-resave-data GeneRegionScan StartedAt: 2025-02-10 19:15:49 -0500 (Mon, 10 Feb 2025) EndedAt: 2025-02-10 19:16:44 -0500 (Mon, 10 Feb 2025) EllapsedTime: 54.7 seconds RetCode: 0 Status: OK PackageFile: GeneRegionScan_1.62.0.tar.gz PackageFileSize: 7.391 MiB