Package: GeneRegionScan Version: 1.62.0 Command: /home/biocbuild/R/R/bin/R CMD INSTALL GeneRegionScan StartedAt: 2025-02-03 20:32:23 -0000 (Mon, 03 Feb 2025) EndedAt: 2025-02-03 20:32:42 -0000 (Mon, 03 Feb 2025) EllapsedTime: 18.2 seconds RetCode: 0 Status: OK