Package: GeneStructureTools Version: 1.26.0 Command: /home/biocbuild/bbs-3.20-bioc/R/bin/R CMD check --install=check:GeneStructureTools.install-out.txt --library=/home/biocbuild/bbs-3.20-bioc/R/site-library --timings GeneStructureTools_1.26.0.tar.gz StartedAt: 2025-02-03 22:38:37 -0500 (Mon, 03 Feb 2025) EndedAt: 2025-02-03 22:46:39 -0500 (Mon, 03 Feb 2025) EllapsedTime: 482.4 seconds RetCode: 0 Status: OK CheckDir: GeneStructureTools.Rcheck Warnings: 0