Package: GeneStructureTools Version: 1.26.0 Command: /home/biocbuild/bbs-3.20-bioc/R/bin/R CMD INSTALL GeneStructureTools StartedAt: 2025-02-03 15:45:24 -0500 (Mon, 03 Feb 2025) EndedAt: 2025-02-03 15:46:29 -0500 (Mon, 03 Feb 2025) EllapsedTime: 64.3 seconds RetCode: 0 Status: OK