Package: GeneStructureTools Version: 1.26.0 Command: chmod a+r GeneStructureTools -R && F:\biocbuild\bbs-3.20-bioc\R\bin\R.exe CMD build --keep-empty-dirs --no-resave-data GeneStructureTools StartedAt: 2025-02-03 19:22:34 -0500 (Mon, 03 Feb 2025) EndedAt: 2025-02-03 19:25:51 -0500 (Mon, 03 Feb 2025) EllapsedTime: 197.6 seconds RetCode: 0 Status: OK PackageFile: GeneStructureTools_1.26.0.tar.gz PackageFileSize: 2.174 MiB