Package: GeneStructureTools Version: 1.26.0 Command: /home/biocbuild/R/R/bin/R CMD build --keep-empty-dirs --no-resave-data GeneStructureTools StartedAt: 2025-02-03 23:48:23 -0000 (Mon, 03 Feb 2025) EndedAt: 2025-02-03 23:51:57 -0000 (Mon, 03 Feb 2025) EllapsedTime: 214.1 seconds RetCode: 0 Status: OK PackageFile: GeneStructureTools_1.26.0.tar.gz PackageFileSize: 2.315 MiB