Package: GeneStructureTools Version: 1.26.0 Command: /home/biocbuild/R/R/bin/R CMD INSTALL GeneStructureTools StartedAt: 2025-02-10 20:46:48 -0000 (Mon, 10 Feb 2025) EndedAt: 2025-02-10 20:47:56 -0000 (Mon, 10 Feb 2025) EllapsedTime: 67.8 seconds RetCode: 0 Status: OK