Package: GeneTonic Version: 3.0.0 Command: /Library/Frameworks/R.framework/Resources/bin/R CMD INSTALL GeneTonic StartedAt: 2025-02-03 17:37:31 -0500 (Mon, 03 Feb 2025) EndedAt: 2025-02-03 17:38:31 -0500 (Mon, 03 Feb 2025) EllapsedTime: 59.6 seconds RetCode: 0 Status: OK