Package: GeneTonic Version: 3.0.0 Command: /home/biocbuild/R/R/bin/R CMD build --keep-empty-dirs --no-resave-data GeneTonic StartedAt: 2025-02-03 23:48:39 -0000 (Mon, 03 Feb 2025) EndedAt: 2025-02-03 23:51:06 -0000 (Mon, 03 Feb 2025) EllapsedTime: 147.1 seconds RetCode: 0 Status: OK PackageFile: GeneTonic_3.0.0.tar.gz PackageFileSize: 8.094 MiB