Package: GeneTonic Version: 3.0.0 Command: /home/biocbuild/R/R/bin/R CMD INSTALL GeneTonic StartedAt: 2025-01-30 20:57:59 -0000 (Thu, 30 Jan 2025) EndedAt: 2025-01-30 20:59:01 -0000 (Thu, 30 Jan 2025) EllapsedTime: 62.8 seconds RetCode: 0 Status: OK