Package: GenomeInfoDb Version: 1.42.3 Command: /Library/Frameworks/R.framework/Resources/bin/R CMD check --install=check:GenomeInfoDb.install-out.txt --library=/Library/Frameworks/R.framework/Resources/library --no-vignettes --timings GenomeInfoDb_1.42.3.tar.gz StartedAt: 2025-02-04 20:49:00 -0500 (Tue, 04 Feb 2025) EndedAt: 2025-02-04 21:01:11 -0500 (Tue, 04 Feb 2025) EllapsedTime: 731.0 seconds RetCode: 0 Status: OK CheckDir: GenomeInfoDb.Rcheck Warnings: 0