Package: GenomeInfoDb Version: 1.42.3 Command: /Library/Frameworks/R.framework/Resources/bin/R CMD build --keep-empty-dirs --no-resave-data GenomeInfoDb StartedAt: 2025-01-30 19:21:05 -0500 (Thu, 30 Jan 2025) EndedAt: 2025-01-30 19:22:19 -0500 (Thu, 30 Jan 2025) EllapsedTime: 74.2 seconds RetCode: 0 Status: OK PackageFile: GenomeInfoDb_1.42.3.tar.gz PackageFileSize: 3.419 MiB