Package: GenomeInfoDb Version: 1.42.3 Command: /Library/Frameworks/R.framework/Resources/bin/R CMD check --install=check:GenomeInfoDb.install-out.txt --library=/Library/Frameworks/R.framework/Resources/library --no-vignettes --timings GenomeInfoDb_1.42.3.tar.gz StartedAt: 2025-02-04 04:09:54 -0500 (Tue, 04 Feb 2025) EndedAt: 2025-02-04 04:30:12 -0500 (Tue, 04 Feb 2025) EllapsedTime: 1218.1 seconds RetCode: 0 Status: OK CheckDir: GenomeInfoDb.Rcheck Warnings: 0