Package: GenomeInfoDb Version: 1.42.3 Command: /home/biocbuild/bbs-3.20-bioc/R/bin/R CMD INSTALL GenomeInfoDb StartedAt: 2025-02-03 15:18:22 -0500 (Mon, 03 Feb 2025) EndedAt: 2025-02-03 15:18:44 -0500 (Mon, 03 Feb 2025) EllapsedTime: 21.7 seconds RetCode: 0 Status: OK