Package: GenomeInfoDb Version: 1.42.3 Command: /home/biocbuild/R/R/bin/R CMD check --install=check:GenomeInfoDb.install-out.txt --library=/home/biocbuild/R/R/site-library --no-vignettes --timings GenomeInfoDb_1.42.3.tar.gz StartedAt: 2025-02-04 07:17:25 -0000 (Tue, 04 Feb 2025) EndedAt: 2025-02-04 07:45:14 -0000 (Tue, 04 Feb 2025) EllapsedTime: 1668.4 seconds RetCode: 0 Status: OK CheckDir: GenomeInfoDb.Rcheck Warnings: 0