Package: GenomeInfoDb Version: 1.42.3 Command: /home/biocbuild/R/R/bin/R CMD INSTALL GenomeInfoDb StartedAt: 2025-02-03 20:28:23 -0000 (Mon, 03 Feb 2025) EndedAt: 2025-02-03 20:28:44 -0000 (Mon, 03 Feb 2025) EllapsedTime: 21.3 seconds RetCode: 0 Status: OK