Package: GenomicAlignments Version: 1.42.0 Command: rm -rf GenomicAlignments.buildbin-libdir && mkdir GenomicAlignments.buildbin-libdir && /Users/biocbuild/BBS/utils/build-universal.sh GenomicAlignments_1.42.0.tar.gz /Library/Frameworks/R.framework/Resources/bin/R GenomicAlignments.buildbin-libdir StartedAt: 2025-02-05 15:59:50 -0500 (Wed, 05 Feb 2025) EndedAt: 2025-02-05 16:00:35 -0500 (Wed, 05 Feb 2025) EllapsedTime: 45.0 seconds RetCode: 0 Status: OK PackageFile: GenomicAlignments_1.42.0.tgz PackageFileSize: 2.251 MiB