Package: GenomicAlignments Version: 1.42.0 Command: /Library/Frameworks/R.framework/Resources/bin/R CMD build --keep-empty-dirs --no-resave-data GenomicAlignments StartedAt: 2025-02-04 00:10:57 -0500 (Tue, 04 Feb 2025) EndedAt: 2025-02-04 00:13:13 -0500 (Tue, 04 Feb 2025) EllapsedTime: 135.8 seconds RetCode: 0 Status: OK PackageFile: GenomicAlignments_1.42.0.tar.gz PackageFileSize: 2.165 MiB