Package: GenomicAlignments Version: 1.42.0 Command: /Library/Frameworks/R.framework/Resources/bin/R CMD check --install=check:GenomicAlignments.install-out.txt --library=/Library/Frameworks/R.framework/Resources/library --no-vignettes --timings GenomicAlignments_1.42.0.tar.gz StartedAt: 2025-02-11 20:30:52 -0500 (Tue, 11 Feb 2025) EndedAt: 2025-02-11 20:36:01 -0500 (Tue, 11 Feb 2025) EllapsedTime: 308.9 seconds RetCode: 0 Status: OK CheckDir: GenomicAlignments.Rcheck Warnings: 0